BEGIN:VCALENDAR
VERSION:2.0
PRODID:-//Eventin//Event Calendar//EN
CALSCALE:GREGORIAN
METHOD:PUBLISH
BEGIN:VEVENT
UID:a1972f337b0dfa07c79b9c7d435206fa@bamakolive.com
SUMMARY:Journée Internationale du jazz
DESCRIPTION:À l’occasion de la Journée Internationale du jazz\, l’Ins
 titut français du Mali ouvre sa scène à une grande “jam session“ ré
 unissant les musiciens de Bamako.\nLe temps d’une soirée\, les styles se
  croisent\, les rythmes se répondent et les improvisations prennent vie av
 ec une énergie incroyable. Jazz\, influences mandingues\, sonorités conte
 mporaines :les univers se mêlent pour donner naissance à une expérience 
 musicale unique\, vibrante et imprévisible.\nPlus qu’un concert\, cette 
 jam est une célébration du partage\, de la liberté et du dialogue entre 
 les artistes.\nUne soirée ouverte\, vivante et pleine de surprises\, au c
 œur de la scène musicale bamakoise.\nEntrée libre : Tout public
LOCATION:Institut Français du Mali
DTSTAMP:20260425T132725Z
DTSTART:20260430T203000Z
DTEND:20260430T233000Z
END:VEVENT
END:VCALENDAR
